BEGIN:VCALENDAR
VERSION:2.0
PRODID:-//Global Dance Festival - ECPv6.11.2.1//NONSGML v1.0//EN
CALSCALE:GREGORIAN
METHOD:PUBLISH
X-WR-CALNAME:Global Dance Festival
X-ORIGINAL-URL:https://globaldancefestival.nl
X-WR-CALDESC:Evenementen voor Global Dance Festival
REFRESH-INTERVAL;VALUE=DURATION:PT1H
X-Robots-Tag:noindex
X-PUBLISHED-TTL:PT1H
BEGIN:VTIMEZONE
TZID:Europe/Amsterdam
BEGIN:DAYLIGHT
TZOFFSETFROM:+0100
TZOFFSETTO:+0200
TZNAME:CEST
DTSTART:20220327T010000
END:DAYLIGHT
BEGIN:STANDARD
TZOFFSETFROM:+0200
TZOFFSETTO:+0100
TZNAME:CET
DTSTART:20221030T010000
END:STANDARD
END:VTIMEZONE
BEGIN:VEVENT
DTSTART;TZID=Europe/Amsterdam:20221105T133000
DTEND;TZID=Europe/Amsterdam:20221105T153000
DTSTAMP:20260422T164810
CREATED:20221008T162100Z
LAST-MODIFIED:20221009T174137Z
UID:587-1667655000-1667662200@globaldancefestival.nl
SUMMARY:Workshop Indu Panday - De expressie in de Indiase dans
DESCRIPTION:Workshop over de expressie in de Indiase dans\nZa 5 nov | 13:30-15:30 uur | GEBOUW | €15 | Ooievaarspas 50%.\n \n[qodef_button size=”” type=”” text=”Tickets” custom_class=”” icon_pack=”font_awesome” fa_icon=”” link=”https://globaldancefestival.nl/ws-indupanday2″ target=”_blank” color=”FFFFF” hover_color=”” background_color=”951B81″ hover_background_color=”” border_color=”” hover_border_color=”” font_size=”” font_weight=”” margin=””]\n \n\nToegankelijk voor alle niveaus en stijlen\nIndu Panday is diep geworteld in 2 verschillende Klassieke Indiase danstradities\, Kathak en Bharata Natyam. Beide Indiase dansstijlen kennen naast pure aspecten ook een verhalende vorm. Het vertellen van een verhaal doet de Indiase danser middels handgebaren en gezichtsuitdrukkingen. In deze workshop kom je meer te weten over deze handgebaren (mudra’s) en expressie (abhinaya) en ga je zelf samen met Indu hiermee aan de slag. Je leert stukje van de expressie uit de Indiase dans in de vorm van een gebed (shlokam). De workshop is toegankelijk voor alle niveaus en stijlen. https://www.indupanday.com
URL:https://globaldancefestival.nl/gdf2022/ws-indupanday2/
LOCATION:Theater De Regentes\, Weimarstraat 63\, Den Haag\, Zuid-Holland\, 2562 GR
CATEGORIES:Global Dance Festival 2022
ATTACH;FMTTYPE=image/png:https://globaldancefestival.nl/wp-content/uploads/2022/10/indupanday-1-e1665248072105.png
ORGANIZER;CN="WereldDansWerkPlaats":MAILTO:info@werelddanswerkplaats.nl
END:VEVENT
BEGIN:VEVENT
DTSTART;TZID=Europe/Amsterdam:20221105T110000
DTEND;TZID=Europe/Amsterdam:20221105T130000
DTSTAMP:20260422T164810
CREATED:20221008T163949Z
LAST-MODIFIED:20221009T174455Z
UID:590-1667646000-1667653200@globaldancefestival.nl
SUMMARY:Workshop Jessica Achten - Een mix van flamenco en moderne dans
DESCRIPTION:Een mix van flamenco en moderne dans\nZa 5 nov | 11:00-13:00 uur | GEBOUW | €15 | Ooievaarspas 50%.\n \n[qodef_button size=”” type=”” text=”Tickets” custom_class=”” icon_pack=”font_awesome” fa_icon=”” link=”https://globaldancefestival.nl/ws-jessicaachten” target=”_blank” color=”FFFFF” hover_color=”” background_color=”951B81″ hover_background_color=”” border_color=”” hover_border_color=”” font_size=”” font_weight=”” margin=””]\n \nEen workshop over de ademhaling en aanwezigheid in dans\nJessica Achten danst niet alleen modern óf flamenco\, juist de combinatie van beide is wat haar een sterke en unieke danseres maakt. In deze workshop gaan we werken vanuit de basisprincipes van zowel flamenco als moderne dans en laten deze in elkaar overvloeien. Hoe laten verschillende dansstijlen zich meevoeren door ademhaling\, tot een punt waar er alleen nog beweging is? Een flow van lucht die het lichaam binnengaat en ook weer verlaat. Dit laten we samen komen met kenmerken uit de moderne dans\, zoals; zwaartekracht\, ademhaling\, dynamiek\, (ont)spanning\, vloeiende en organische bewegingen. Adem diep in en laat je inspireren… https://www.flamencoencuentros.com
URL:https://globaldancefestival.nl/gdf2022/ws-jessicaachten/
LOCATION:Theater De Regentes\, Weimarstraat 63\, Den Haag\, Zuid-Holland\, 2562 GR
CATEGORIES:Global Dance Festival 2022
ATTACH;FMTTYPE=image/png:https://globaldancefestival.nl/wp-content/uploads/2022/10/jessica-e1665247164674.png
ORGANIZER;CN="WereldDansWerkPlaats":MAILTO:info@werelddanswerkplaats.nl
END:VEVENT
BEGIN:VEVENT
DTSTART;TZID=Europe/Amsterdam:20221105T110000
DTEND;TZID=Europe/Amsterdam:20221105T130000
DTSTAMP:20260422T164810
CREATED:20221008T161551Z
LAST-MODIFIED:20221009T112105Z
UID:575-1667646000-1667653200@globaldancefestival.nl
SUMMARY:Workshop Indu Panday - Kom vanuit je eigen dansstijl tot nieuwe bewegingen
DESCRIPTION:Kom vanuit je eigen dansstijl tot nieuwe bewegingen\nZa 5 nov | 11:00-13:00 uur | GEBOUW | €15 | Ooievaarspas 50%.\n \n[qodef_button size=”” type=”” text=”Tickets” custom_class=”” icon_pack=”font_awesome” fa_icon=”” link=”https://globaldancefestival.nl/ws-indupanday1″ target=”_blank” color=”FFFFF” hover_color=”” background_color=”951B81″ hover_background_color=”” border_color=”” hover_border_color=”” font_size=”” font_weight=”” margin=””]\n \nEen workshop voor gevorderde dansers van alle Global stijlen\nIndu Panday is klassiek geschoold in de Bharata Natyam en de Kathak en danste in vele vernieuwende (inter)nationale producties\, waaronder werk van Seeta Patel en het duo Hari en Chethana. Zij is 1 van de vaste dansers bij Kalpanarts. In de workshop ga je aan de slag om vanuit het dansvocabulaire van jouw eigen dansstijl tot nieuwe bewegingen te komen. Indu deelt in deze workshop graag de visie van Kalpanarts. De workshop is voor gevorderde dansers van alle Global stijlen. https://www.indupanday.com
URL:https://globaldancefestival.nl/gdf2022/ws-indupanday1/
LOCATION:Theater De Regentes\, Weimarstraat 63\, Den Haag\, Zuid-Holland\, 2562 GR
CATEGORIES:Global Dance Festival 2022
ATTACH;FMTTYPE=image/png:https://globaldancefestival.nl/wp-content/uploads/2022/10/indupanday.png
ORGANIZER;CN="WereldDansWerkPlaats":MAILTO:info@werelddanswerkplaats.nl
END:VEVENT
BEGIN:VEVENT
DTSTART;TZID=Europe/Amsterdam:20221104T203000
DTEND;TZID=Europe/Amsterdam:20221104T223000
DTSTAMP:20260422T164810
CREATED:20221008T133121Z
LAST-MODIFIED:20221009T192615Z
UID:561-1667593800-1667601000@globaldancefestival.nl
SUMMARY:Voorstelling INSPIRO - Hedendaagse flamenco over adem als motor
DESCRIPTION:Hedendaagse flamenco over adem als motor\nVr 4 nov | 20:30 uur | KETELHUIS | €15 incl. drankje | Ooievaarspas 50%.\n \n[qodef_button size=”” type=”” text=”Tickets” custom_class=”” icon_pack=”font_awesome” fa_icon=”” link=”https://globaldancefestival.nl/inspiro” target=”_blank” color=”FFFFF” hover_color=”” background_color=”951B81″ hover_background_color=”” border_color=”” hover_border_color=”” font_size=”” font_weight=”” margin=””]\n \nEl Pub Flamenco | Met Jessica Achten\nDanseres Jessica Achten danst niet alleen modern óf flamenco\, juist de combinatie van beide is wat haar een sterke en unieke danseres maakt. In deze voorstelling betrekt zij gitarist/componist Tijn van der Sanden\, percussionist Claudio Spieler en pianist/electronics Carlos Ema. Deze jonge makers hebben een brede en vernieuwende kijk op flamenco en hopen veel mensen te kunnen inspireren met hun voorstellingen. \nAdem is de motor van beweging\, in welke dansvorm dan ook. Door ademhaling ontstaat er energie die vertaald wordt in beweging. Ademhaling staat centraal bij moderne dans\, maar bewust gebruik hiervan is ook bij Flamenco essentieel. Hoe laten deze stijlen zich meevoeren door ademhaling\, tot een punt waar er alleen nog beweging is? Een flow van lucht die het lichaam binnengaat en ook weer verlaat. Adem diep in en laat je inspireren… \nWat is de bron van inspiratie voor een artiest? Is het het verlangen als danser om te communiceren via beweging? Is het de behoefte als muzikant om zijn gevoel om te zetten in klanken? Of laat je je inspireren door emoties\, reizen\, muziek\, kunst\, natuur\, een verhaal of afbeelding? \nDe artiesten zullen door een constante ‘terugkoppeling’ elkaar inspireren met als uitgangspunt de ‘ademhaling’. Tijdens hun intensieve samenwerking laten zij zich meevoeren in deze flow\, waardoor ze de energie zullen laten stijgen tot een hoogtepunt. \nInspiro\nInspiro aire\, dejo inspirarme por el movimiento.Inspiro el movimiento\, dejo inspirarme por la musica.Inspiro la musica\, dejo inspirarme por las palabras.Inspiro palabras\, dejo inspirarme por la vida.Respira Profundo – Dejate llevar \nArtiesten:\nDans: Jessica AchtenPiano/live electronics: Carlos EmaGitaar/live electronics: Tijn van der SandenPercussie: Claudio Spieler
URL:https://globaldancefestival.nl/gdf2022/inspiro/
LOCATION:Theater De Regentes\, Weimarstraat 63\, Den Haag\, Zuid-Holland\, 2562 GR
CATEGORIES:Global Dance Festival 2022
ATTACH;FMTTYPE=image/png:https://globaldancefestival.nl/wp-content/uploads/2022/10/FB0EC392-9340-45EB-AB5D-57FFD674342B.png
ORGANIZER;CN="WereldDansWerkPlaats":MAILTO:info@werelddanswerkplaats.nl
END:VEVENT
BEGIN:VEVENT
DTSTART;TZID=Europe/Amsterdam:20221104T201500
DTEND;TZID=Europe/Amsterdam:20221104T223000
DTSTAMP:20260422T164810
CREATED:20221008T131250Z
LAST-MODIFIED:20221009T191649Z
UID:546-1667592900-1667601000@globaldancefestival.nl
SUMMARY:Kalpanarts - Een muzikale dansvoorstelling over de dood en de viering van het leven
DESCRIPTION:Kalpanarts\nVr 4 nov | 20:15 uur | GROTE ZAAL | € 18\,-incl. drankje | Ooievaarspas 50%. \n[qodef_button size=”” type=”” text=”Tickets” custom_class=”” icon_pack=”font_awesome” fa_icon=”” link=”https://globaldancefestival.nl/kalpanarts” target=”_blank” color=”FFFFF” hover_color=”” background_color=”951B81″ hover_background_color=”” border_color=”” hover_border_color=”” font_size=”” font_weight=”” margin=””] \nEen muzikale dansvoorstelling over de dood en de viering van het leven.\n“Voor wat is geboren\, is de dood zeker\, en voor de doden is de geboorte zeker. Dus treur niet om iets dat onvermijdelijk is.” – Bhagavad Gita (invloedrijk Hindoe geschrift) \nDe wijze waarop de mens omgaat met de dood zegt ook iets over hoe hij leeft. Hoe men het onoverkomelijke einde in de ogen kijkt verschilt per cultuur\, land en generatie. In diverse culturen wordt de dood verweven met het dagelijks leven. In begrafenis- en rouwrituelen is er naast verdriet ruimte om het leven te vieren. Daarmee wordt deze minder angstaanjagend. \nIn True Life onderzoekt Kalpanarts de relatie tot het leven en de dood. Hindoe verzen\, God Shiva en Indiase filosofie zijn inspiratiebronnen. Ook zullen rituelen rondom de dood en de doden voorbijkomen zoals de crematierituelen aan de heilige rivier de Ganges\, de Dag van de Doden in Mexico (Dia de los Muertos) en de Orleans Jazz Funerals. In het onderzoek worden de persoonlijke ervaringen en overtuigingen van de performers met hun verschillende cultuurachtergronden meegenomen. Naast zes dansers staat de getalenteerde Shishani Vranckx op het podium (zang & gitaar). \nEXTRA: Voorafgaand aan de voorstelling kun je een introductieworkshop Indiase dans volgen\, verzorgd voor Usha Kanagasabai. Gratis op vertoon van een kaartje voor de voorstelling\, anders 9 euro. \n  \nOver Shishani Vranckx\nShishani is een Belgisch-Namibische singer-songwriter\, gitarist en musicoloog. Zij maakt geëngageerde songs. Shishani strijdt voor gelijke rechten waaronder voor queer- en transpersonen. In 2015 zette ze het kwartet The Namibian Tales op. Hiermee brengt ze een ode aan traditionele Namibische muziek. In 2019 richtte ze de all-female band Miss Catharsis op waarbij de gekleurde vrouw centraal staat. Shishani werd genomineerd voor de Amsterdamprijs voor de Kunst\, in de categorie Stimuleringsprijs. \n“Horizontale luchtsalto’s en andere urban moves gaan samen met sierlijk gedraaide polsen en roffelende voeten uit de Kathak en Bharatanatyam. Het resultaat is een dynamische dansvorm die theatrale zeggingskracht heeft en mooi is om naar te kijken.”– (Trouw) \nKalpanarts is het dansgezelschap van Kalpana Raghuraman (artistiek leider & choreograaf) en Gysèle ter Berg (zakelijk leider & artistic associate). Maatschappelijke en aansprekende onderwerpen dienen als basis. Kalpanarts is een hedendaags dansgezelschap met een kleurrijke cast en achterban. Door Indiase dansvormen samen te brengen met urban- en hedendaagse dans\, creëert Kalpanarts een genre overschrijdende danstaal. Als een hartslag is er altijd een sterk ritmisch element aanwezig in het werk. Kenmerkend is het gebruik van voetenwerk\, handgebaren en mimiek. \nDance on Mute\nDeze voorstelling maakt onderdeel uit van ‘Dance on Mute’; een initiatief van Kalpanarts om voorstellingen beter toegankelijk te maken voor mensen met een gehoorbeperking. \nVoor meer informatie over Dance on Mute: kalpanarts.com/dance-on-mute \nCredits\nChoreografie: Kalpana RaghuramanConcept: Kalpana Raghuraman & Gysèle ter BergZakelijk leider & artistic associate: Gysèle ter BergDans: o.a. Indu Panday\, Sooraj Subramaniam\, Goda ŽukauskaitėLivemuziek: Shishani Vranckx (zang & gitaar)Muziekcompositie: Simone GiacominiKostuumontwerp: Aziz BekkaouiLichtontwerp & toneelbeeld: Jeffrey SteenbergenDramaturgie: Vincent Wijlhuizenwww.kalpanarts.com
URL:https://globaldancefestival.nl/gdf2022/kalpanarts/
LOCATION:Theater De Regentes\, Weimarstraat 63\, Den Haag\, Zuid-Holland\, 2562 GR
CATEGORIES:Global Dance Festival 2022
ATTACH;FMTTYPE=image/png:https://globaldancefestival.nl/wp-content/uploads/2022/10/csm_Screenshot_2022-10-05_at_12.19.19_dc6939a687.png
ORGANIZER;CN="WereldDansWerkPlaats":MAILTO:info@werelddanswerkplaats.nl
END:VEVENT
BEGIN:VEVENT
DTSTART;TZID=Europe/Amsterdam:20221104T183000
DTEND;TZID=Europe/Amsterdam:20221104T194500
DTSTAMP:20260422T164810
CREATED:20221006T155148Z
LAST-MODIFIED:20221101T130408Z
UID:390-1667586600-1667591100@globaldancefestival.nl
SUMMARY:Intro Indiase Dans - Leer en dans een fragment uit van Kalpanarts: True Life!
DESCRIPTION:Leer en dans een fragment uit van Kalpanarts: True Life!\nVr 4 nov | 18:30-19:45 uur | STUDIO | €9 (Gratis op vertoon kaartje voor True Life).[qodef_button size=”” type=”” text=”Tickets” custom_class=”” icon_pack=”font_awesome” fa_icon=”” link=”https://globaldancefestival.nl/ws-indiasedans” target=”_blank” color=”FFFFF” hover_color=”” background_color=”951B81″ hover_background_color=”” border_color=”” hover_border_color=”” font_size=”” font_weight=”” margin=””] \n  \nMaak kennis met de unieke danstaal van Kalpanarts \nZou je meer over Indiase klassieke dans willen weten en leren? Wil je kennis maken met de unieke danstaal van Kalpanarts? Tijdens deze workshop introduceert een professionele danser van Kalpanarts enkele basis elementen van de meest bekende Indiase klassieke dansvorm Bharatanatyam. Handgebaren\, expressie met de ogen en ritmisch voetenwerk zijn elementen waar Indiase klassieke dansstijlen bekend om staan. Daarnaast leer je enkele dansfrases uit de gloednieuwe voorstelling True Life! Iedereen is welkom! (volwassenen en jongeren ouder dan 12 jaar). Draag gemakkelijke kleding\, met blote voeten. Als je na de workshop naar de voorstelling gaat\, heb je tijd om op te frissen en iets te drinken/eten. De workshop wordt gegeven door Usha Kanagasabai.\n \nUsha Kanagasabai heeft van alle performers het langst met Kalpana gewerkt. Zij begon op jonge leeftijd met haar Bharatanatyam opleiding in Nederland en studeerde daarna door in India. Naast dans heeft zij zich toen ook verdiept in de ritmische aspecten van Indiase dans en muziek. Usha heeft naast het dansen ook veel ervaring met lesgeven. Zij danste in veel producties van Kalpana gestaan waaronder Simeon. Daarnaast was zij assistent choreografie voor de productie Nadhi (2018).
URL:https://globaldancefestival.nl/gdf2022/ws-indiasedans/
LOCATION:Theater De Regentes\, Weimarstraat 63\, Den Haag\, Zuid-Holland\, 2562 GR
CATEGORIES:Global Dance Festival 2022
ATTACH;FMTTYPE=image/png:https://globaldancefestival.nl/wp-content/uploads/2022/10/csm_Screenshot_2022-10-05_at_12.19.19_dc6939a687.png
ORGANIZER;CN="WereldDansWerkPlaats":MAILTO:info@werelddanswerkplaats.nl
END:VEVENT
END:VCALENDAR