BEGIN:VCALENDAR
VERSION:2.0
PRODID:-//Global Dance Festival - ECPv6.11.2.1//NONSGML v1.0//EN
CALSCALE:GREGORIAN
METHOD:PUBLISH
X-ORIGINAL-URL:https://globaldancefestival.nl
X-WR-CALDESC:Evenementen voor Global Dance Festival
REFRESH-INTERVAL;VALUE=DURATION:PT1H
X-Robots-Tag:noindex
X-PUBLISHED-TTL:PT1H
BEGIN:VTIMEZONE
TZID:Europe/Amsterdam
BEGIN:DAYLIGHT
TZOFFSETFROM:+0100
TZOFFSETTO:+0200
TZNAME:CEST
DTSTART:20230326T010000
END:DAYLIGHT
BEGIN:STANDARD
TZOFFSETFROM:+0200
TZOFFSETTO:+0100
TZNAME:CET
DTSTART:20231029T010000
END:STANDARD
END:VTIMEZONE
BEGIN:VEVENT
DTSTART;TZID=Europe/Amsterdam:20231112T130000
DTEND;TZID=Europe/Amsterdam:20231112T150000
DTSTAMP:20260422T185300
CREATED:20231012T155035Z
LAST-MODIFIED:20231111T122031Z
UID:945-1699794000-1699801200@globaldancefestival.nl
SUMMARY:WORKSHOP: ORIËNTAALSE DANS
DESCRIPTION:Arabische ritmes door Peter Verzijl met livemuziek\n\n\n\n\nPeter Verzijl of ‘Farouq’ kwam in 1989 bij toeval in aanraking met oriëntaalse (buik)dans. Met zijn 30 jaar lange ervaring als docent is hij de aangewezen persoon om je wegwijs te maken in de ritmes van de oriëntaalse dans die live gespeeld zullen worden door Modar Salama. Farouq | www.farouq.nl Peter probeert in zijn workshop cursisten kennis te laten maken met de schoonheid van de traditionele stijlen en de kracht van de binnen-lichamelijke buikdans technieken. Na vele lessen\, workshops en optredens besefte hij zich dat buikdans geen trukendoos met isolaties is maar een zuivere weergave van de muziek\, het loslaten van controle en ego en het weergeven van de ziel van een danser/es. Hij nam zich voor zoveel als mogelijk over de traditie van de dans te weten te komen. Deze onuitputtelijke bron is nog lang niet opgedroogd\, ook al experimenteert hij ook voorzichtig experimenteer met andere dansvormen. Zo probeert hij zijn eigen “waarheid” te vinden. Modar Salama | www.modar.nl Modar Salama is een drummer en percussionist\, geboren in Damascus en gevestigd in Amsterdam. Hij studeerde klassieke en oosterse percussie aan het Hoger Instituut voor Muziek in Damascus en begon zijn carrière op te bouwen als drummer in jazz- en latinmuziek\, terwijl hij tegelijkertijd contact hield met zijn klassieke en Arabische roots. Hij speelde met het Syrian National Orchestra\, de Syrian Big Band en vele andere internationale projecten in China\, Jordanië\, Maleisië\, Tunesië\, Oostenrijk\, Duitsland\, Libanon\, Denemarken en Egypte. Modar werkte op het gebied van muziektheater\, het uitvoeren van een groot aantal toneelstukken in Syrië en de Arabische wereld. Hij werkt nu aan een aantal projecten als Arabische percussionist en drummer en creëert zijn eigen stijl\, beïnvloed door de ziel van het Oosten.\n\n\n\n\n\n\n\n 
URL:https://globaldancefestival.nl/gdf2022/workshop-orientaalse-dans/
LOCATION:Theater De Regentes\, Weimarstraat 63\, Den Haag\, Zuid-Holland\, 2562 GR
CATEGORIES:Global Dance Festival 2023,Voorstelling
ORGANIZER;CN="WereldDansWerkPlaats":MAILTO:info@werelddanswerkplaats.nl
END:VEVENT
BEGIN:VEVENT
DTSTART;TZID=Europe/Amsterdam:20231112T130000
DTEND;TZID=Europe/Amsterdam:20231112T150000
DTSTAMP:20260422T185300
CREATED:20231012T154702Z
LAST-MODIFIED:20231111T122227Z
UID:944-1699794000-1699801200@globaldancefestival.nl
SUMMARY:WORKSHOP: RUEDA DE CASINO
DESCRIPTION:Latin Soul Dance & Salsamania\n \n\n\n\n\nWaar de dansvloer verandert in een speeltuin van plezier! In deze spannende workshop duiken we in de wereld van Rueda de Casino\, ook wel bekend als “Rueda Cubana.” Maak je klaar om de basisfiguren te leren en er een geweldige tijd van te maken! Wil je een authentieke danservaring beleven? Dan zijn wij er voor jou! Wij leren salsa direct in de Rueda de Casino-stijl. Rueda de Casino is de Cubaanse dansstijl die de essentie van salsa behoudt en een groepsdynamiek toevoegt. Dansers komen samen in een cirkel en volgen de aanwijzingen van een leider. Maar Rueda de Casino gaat verder dan alleen gecoördineerde stappen en patronen. Het leert ons de waarden van samenwerking\, communicatie en teamwork. Tijdens dit proces ontwikkelen we onze dansvaardigheden en leren we hoe we elkaar kunnen ondersteunen op de dansvloer. De workshop wordt geleid door Nelson John Tremus\, een ervaren danser met meer dan 20 jaar ervaring in Rueda Cubana. Nelson is Venezolaans en zijn danspartner Angela heeft ook veel ervaring in de danswereld. Samen zullen zij een onvergetelijke ervaring bieden.
URL:https://globaldancefestival.nl/gdf2022/workshop-rueda-de-casino/
LOCATION:Theater De Regentes\, Weimarstraat 63\, Den Haag\, Zuid-Holland\, 2562 GR
CATEGORIES:Global Dance Festival 2023,Workshop
ORGANIZER;CN="WereldDansWerkPlaats":MAILTO:info@werelddanswerkplaats.nl
END:VEVENT
BEGIN:VEVENT
DTSTART;TZID=Europe/Amsterdam:20231111T194500
DTEND;TZID=Europe/Amsterdam:20231111T220000
DTSTAMP:20260422T185300
CREATED:20231012T154515Z
LAST-MODIFIED:20231012T154840Z
UID:943-1699731900-1699740000@globaldancefestival.nl
SUMMARY:VOORSTELLING: VARNAM EN TÓCAME
DESCRIPTION:Klassieke Indiase dans en hedendaagse Flamenco\n\n\n\n\nOoievaarspas 50% korting – alleen te koop aan de balie\nVARNAM DEVADI DEVA\nKlassieke Indiase dans over de samenkomst van verschillende gedaantes door Poernima Gobardhan Een Varnam is binnen de klassieke Indiase dans het centrale stuk van een voorstelling\, dat de meest complexe en moeilijke bewegingen laat zien. De complexe en zeer uitgebreide jathi’s\, technische frases en de prachtige sahityams\, coupletten in deze Varnam maken het een uitzonderlijk mooie compositie. Deze Varnam danst Poernima Gobardhan het verhaal waarin Parvati\, één van de verschijningsvormen van Devi\, haar man Shiva bevraagt. Zij beschrijft hoe zij hem ziet\, als hij die danst\, als god van de Chidhambaram temple\, Nataraja met al zijn glorie. Maar ze beschrijft hem ook als zijn gedaante in de vorm van de vernietiger. Ze verlangt naar een samenkomst. Ze herinnert hem aan de tijden die ze samen hebben doorgebracht en vraagt om een verklaring voor de lange scheiding. Uiteindelijk roept ze hem wanhopig door de verschillende namen van Shiva te gebruiken met de hoop dat ze één worden. Choreografie: Padmini Ravi | Dans: Poernima Gobardhan | Raga: Malika Tala adi | Duur: 28 min Wereldpremière 2 november 2018\, Korzo\, Den Haag tijdens India Dans Festival\nTÓCAME \nTÓCAME (raak me aan) is een hedendaagse flamencovoorstelling over aanraking\, gevoel en begroetingen. Twee dansers gaan op zoek naar de afstand tot elkaar en het verlangen om de ander aan te raken; met handen en armen\, torso’s die elkaar ontmoeten\, voeten die communiceren door middel van ritme. Hoe raak je elkaar aan? Hoe voelt een aanraking? Of hoe vermijd je juist aangeraakt te worden? Wat voor een sensatie geeft het als je elkaar begroet met een knuffel of een hand of een elleboog? In deze voorstelling gaat het over communiceren met elkaar in een wereld waar steeds meer afstand is\, zowel fysiek als sociaal. Waarin we meer en anders zijn gaan denken over aanraking. Op zoek naar manieren om elkaar te benaderen en de behoefte hebben om een ander te voelen en verlangen naar fysieke connectie. De dansers gaan met elkaar in dialoog en betrekken hierbij 3 muzikanten. Met flamenco als basis\, zoeken de artiesten naar vernieuwing in hun bewegingen en geluiden om met elkaar te communiceren. In zowel de muziek als dans word je meegenomen in deze wervelende voorstelling ‘Raak me aan’. Trailer: https://www.youtube.com/watch?v=WqzNnsNxdXU Artiesten:  Dans: Federico Ordoñez & Jessica Achten Zang: Esteban Murillo Gitaar + live electronics: Tijn van der Sanden Percussie: Udo Demandt
URL:https://globaldancefestival.nl/gdf2022/voorstelling-varnam-en-tocame/
LOCATION:Theater De Regentes\, Weimarstraat 63\, Den Haag\, Zuid-Holland\, 2562 GR
CATEGORIES:Global Dance Festival 2023,Voorstelling
ATTACH;FMTTYPE=image/png:https://globaldancefestival.nl/wp-content/uploads/2023/10/048d6d82-05b7-41e2-8b5f-956876d949c8.png
ORGANIZER;CN="WereldDansWerkPlaats":MAILTO:info@werelddanswerkplaats.nl
END:VEVENT
BEGIN:VEVENT
DTSTART;TZID=Europe/Amsterdam:20231111T143000
DTEND;TZID=Europe/Amsterdam:20231111T163000
DTSTAMP:20260422T185300
CREATED:20231012T154302Z
LAST-MODIFIED:20231012T154339Z
UID:942-1699713000-1699720200@globaldancefestival.nl
SUMMARY:WORKSHOP: AFRIKAANSE DANS
DESCRIPTION:Door Rosa Maria met livemuziek\n\n\n\n\nRosa Maria kent door haar brede danservaring en jarenlange samenwerking met diverse muzikanten alle kneepjes van dansen met livemuziek. Samen met maar liefst twee drummers brengt ze plezier en passie over op iedereen die bij haar op de vloer staat! Voor Rosa Maria\, afkomstig uit Angola is Afrikaanse dans haar grote passie. Vanaf haar kinderjaren werd ze geïnspireerd door haar oma\, een sterdanseres in een vooraanstaande Angolese dansgroep. Ze volgde lessen bij solisten van de Angola Dance Company\, waar ze ook twee jaar mee toerde\, en bekwaamde zich daarnaast in andere Afrikaanse dansstijlen\, Oosterse dans en de Braziliaanse samba. Dansen is voor haar een van leukste dingen van het leven. Rosa Maria “Ik heb ervaren dat dansen goed is voor lichaam en geest.” www.rosa-maria.nl
URL:https://globaldancefestival.nl/gdf2022/workshop-afrikaanse-dans/
LOCATION:Theater De Regentes\, Weimarstraat 63\, Den Haag\, Zuid-Holland\, 2562 GR
CATEGORIES:Global Dance Festival 2023,Workshop
ORGANIZER;CN="WereldDansWerkPlaats":MAILTO:info@werelddanswerkplaats.nl
END:VEVENT
BEGIN:VEVENT
DTSTART;TZID=Europe/Amsterdam:20231111T080000
DTEND;TZID=Europe/Amsterdam:20231111T143000
DTSTAMP:20260422T185300
CREATED:20231012T152917Z
LAST-MODIFIED:20231012T153821Z
UID:940-1699689600-1699713000@globaldancefestival.nl
SUMMARY:WORKSHOP: FLAMENCO
DESCRIPTION:Een workshop over ‘encuentros’ (ontmoetingen) in de flamencodans. Jessica Achten heeft met haar veelzijdige dansachtergrond en haar opleiding aan ArtEZ veel vernieuwende elementen in haar werk gebracht en die deelt ze met gitaarbegeleiding van Tijn van der Sanden graag met anderen. In 2013 startten zij samen Encuentros\, dat staat voor de ‘ontmoeting(en)’ tussen Jessica en Tijn\, tussen artiest en publiek\, de leraar en leerling\, de samenwerking met mede artiesten en de manier waarop flamenco zich leent voor een mix met andere muziek\, -dansstijlen en andere kunsten. Kortom: inspiratie nodig voor nieuwe vormen van ontmoeten\, doe mee aan de workshop! Jessica Achten Na heel veel dansen werd tijdens haar dansopleiding haar identiteit als danser\, dansmaker én docent verder ontwikkeld. Met moderne dans\, klassiek ballet en jazz als hoofdvakken en andere stijlen zoals flamenco\, improvisatie\, compositie\, hiphop\, Afrikaanse dans en folklore als bijvakken. Ze schreef haar scriptie over de moderne invloeden in flamenco\, waarvoor ze 2 maanden naar Madrid ging voor verder onderzoek. In 2011 behaalde ze haar diploma ‘Bachelor of dance in education’. Naast en bijzondere performer is Jessica een uitstekende docent\, die haar kennis en ervaring graag overdraagt. www.flamencoencuentros.com Tijn van der Sanden Via het Centrum voor Pop & Jazz en het  Conservatorium van Tilburg\, ging hij naar het Conservatorium van Amsterdam\, waar hij vanaf het tweede jaar Flamenco en jazz gitaar als minor volgde. Op 21-jarige leeftijd studeerde hij af en vervolgde zijn studie in Sevilla\, Spanje. Bij de Fundacion Christina Heeren kreeg hij dagelijks techniek\, zang en (dansbegeidings)lessen van topdocenten en volgde theorie- en geschiedenislessen. Van 2018 t/m 2019 studeerde hij aan de Musicube Academy in Bonn\, (Duitsland) waar hij de studie volgde Music for Film & Theatre. Een topmuzikant\, en een enthousiaste en bevlogen docent. www.flamencoencuentros.com
URL:https://globaldancefestival.nl/gdf2022/workshop-flamenco/
LOCATION:Theater De Regentes\, Weimarstraat 63\, Den Haag\, Zuid-Holland\, 2562 GR
CATEGORIES:Global Dance Festival 2023,Workshop
ORGANIZER;CN="WereldDansWerkPlaats":MAILTO:info@werelddanswerkplaats.nl
END:VEVENT
END:VCALENDAR